BEGIN:VCALENDAR
VERSION:2.0
PRODID:-//Jim Butcher - ECPv6.15.20//NONSGML v1.0//EN
CALSCALE:GREGORIAN
METHOD:PUBLISH
X-WR-CALNAME:Jim Butcher
X-ORIGINAL-URL:https://www.jim-butcher.com
X-WR-CALDESC:Events for Jim Butcher
REFRESH-INTERVAL;VALUE=DURATION:PT1H
X-Robots-Tag:noindex
X-PUBLISHED-TTL:PT1H
BEGIN:VTIMEZONE
TZID:America/New_York
BEGIN:DAYLIGHT
TZOFFSETFROM:-0500
TZOFFSETTO:-0400
TZNAME:EDT
DTSTART:20250309T070000
END:DAYLIGHT
BEGIN:STANDARD
TZOFFSETFROM:-0400
TZOFFSETTO:-0500
TZNAME:EST
DTSTART:20251102T060000
END:STANDARD
BEGIN:DAYLIGHT
TZOFFSETFROM:-0500
TZOFFSETTO:-0400
TZNAME:EDT
DTSTART:20260308T070000
END:DAYLIGHT
BEGIN:STANDARD
TZOFFSETFROM:-0400
TZOFFSETTO:-0500
TZNAME:EST
DTSTART:20261101T060000
END:STANDARD
BEGIN:DAYLIGHT
TZOFFSETFROM:-0500
TZOFFSETTO:-0400
TZNAME:EDT
DTSTART:20270314T070000
END:DAYLIGHT
BEGIN:STANDARD
TZOFFSETFROM:-0400
TZOFFSETTO:-0500
TZNAME:EST
DTSTART:20271107T060000
END:STANDARD
END:VTIMEZONE
BEGIN:VEVENT
DTSTART;TZID=America/New_York:20260127T190000
DTEND;TZID=America/New_York:20260127T210000
DTSTAMP:20260421T042618
CREATED:20251220T043845Z
LAST-MODIFIED:20251220T043845Z
UID:5546-1769540400-1769547600@www.jim-butcher.com
SUMMARY:Twelve Months Tour: Salt Lake City\, UT
DESCRIPTION:Celebrate the release of Twelve Months with the author himself!\nPlease visit The King’s English website for event and ticket information.
URL:https://www.jim-butcher.com/event/twelve-months-tour-salt-lake-city-ut
LOCATION:The King’s English Offsite: The First Baptist Church of SLC\, 777 S 1300 E\, Salt Lake City\, Utah\, 84102
END:VEVENT
END:VCALENDAR